BEGIN:VCALENDAR
VERSION:2.0
PRODID:-//The Community Partnership - ECPv6.15.20//NONSGML v1.0//EN
CALSCALE:GREGORIAN
METHOD:PUBLISH
X-WR-CALNAME:The Community Partnership
X-ORIGINAL-URL:https://community-partnership.org
X-WR-CALDESC:Events for The Community Partnership
REFRESH-INTERVAL;VALUE=DURATION:PT1H
X-Robots-Tag:noindex
X-PUBLISHED-TTL:PT1H
BEGIN:VTIMEZONE
TZID:America/New_York
BEGIN:DAYLIGHT
TZOFFSETFROM:-0500
TZOFFSETTO:-0400
TZNAME:EDT
DTSTART:20220313T070000
END:DAYLIGHT
BEGIN:STANDARD
TZOFFSETFROM:-0400
TZOFFSETTO:-0500
TZNAME:EST
DTSTART:20221106T060000
END:STANDARD
BEGIN:DAYLIGHT
TZOFFSETFROM:-0500
TZOFFSETTO:-0400
TZNAME:EDT
DTSTART:20230312T070000
END:DAYLIGHT
BEGIN:STANDARD
TZOFFSETFROM:-0400
TZOFFSETTO:-0500
TZNAME:EST
DTSTART:20231105T060000
END:STANDARD
BEGIN:DAYLIGHT
TZOFFSETFROM:-0500
TZOFFSETTO:-0400
TZNAME:EDT
DTSTART:20240310T070000
END:DAYLIGHT
BEGIN:STANDARD
TZOFFSETFROM:-0400
TZOFFSETTO:-0500
TZNAME:EST
DTSTART:20241103T060000
END:STANDARD
END:VTIMEZONE
BEGIN:VEVENT
DTSTART;TZID=America/New_York:20230316T100000
DTEND;TZID=America/New_York:20230316T120000
DTSTAMP:20260424T221549
CREATED:20221122T124637Z
LAST-MODIFIED:20221122T124637Z
UID:4844-1678960800-1678968000@community-partnership.org
SUMMARY:DC 103: HMIS YOUTH  PROGRAM TRAINING
DESCRIPTION:DC 103 is the New User Training for the DC HMIS for programs that serve YOUTH INDIVIDUALS and FAMILIES. This training covers the basics of HMIS as well as the full individual program workflow in the DC HMIS. This training is meant for new DC HMIS users and those current users looking for a full refresher course.
URL:https://community-partnership.org/event/dc-103-hmis-youth-program-training-15/
END:VEVENT
BEGIN:VEVENT
DTSTART;TZID=America/New_York:20230316T100000
DTEND;TZID=America/New_York:20230316T150000
DTSTAMP:20260424T221549
CREATED:20221220T153140Z
LAST-MODIFIED:20221220T153140Z
UID:4916-1678960800-1678978800@community-partnership.org
SUMMARY:Family SPDAT
DESCRIPTION:Family SPDAT training reviews the comprehensive assessment that examines all components of families lives including health\, risks\, daily living skills and housing and homelessness.\nAudience: All family shelter\, transitional housing and FRSP/RRH case managers and program staff  \nPre-requisites: DC 100 Basics of Data Entry training\, DC 102 HMIS Family Program Training\, signed HMIS User License Agreement
URL:https://community-partnership.org/event/family-spdat-10/
END:VEVENT
END:VCALENDAR